BEGIN:VCALENDAR
VERSION:2.0
PRODID:-//Velay Athlétisme - ECPv6.15.20//NONSGML v1.0//EN
CALSCALE:GREGORIAN
METHOD:PUBLISH
X-ORIGINAL-URL:http://www.velay-athletisme.fr
X-WR-CALDESC:Évènements pour Velay Athlétisme
REFRESH-INTERVAL;VALUE=DURATION:PT1H
X-Robots-Tag:noindex
X-PUBLISHED-TTL:PT1H
BEGIN:VTIMEZONE
TZID:Europe/Paris
BEGIN:DAYLIGHT
TZOFFSETFROM:+0100
TZOFFSETTO:+0200
TZNAME:CEST
DTSTART:20250330T010000
END:DAYLIGHT
BEGIN:STANDARD
TZOFFSETFROM:+0200
TZOFFSETTO:+0100
TZNAME:CET
DTSTART:20251026T010000
END:STANDARD
BEGIN:DAYLIGHT
TZOFFSETFROM:+0100
TZOFFSETTO:+0200
TZNAME:CEST
DTSTART:20260329T010000
END:DAYLIGHT
BEGIN:STANDARD
TZOFFSETFROM:+0200
TZOFFSETTO:+0100
TZNAME:CET
DTSTART:20261025T010000
END:STANDARD
BEGIN:DAYLIGHT
TZOFFSETFROM:+0100
TZOFFSETTO:+0200
TZNAME:CEST
DTSTART:20270328T010000
END:DAYLIGHT
BEGIN:STANDARD
TZOFFSETFROM:+0200
TZOFFSETTO:+0100
TZNAME:CET
DTSTART:20271031T010000
END:STANDARD
END:VTIMEZONE
BEGIN:VEVENT
DTSTART;TZID=Europe/Paris:20260502T080000
DTEND;TZID=Europe/Paris:20260502T170000
DTSTAMP:20260421T174157
CREATED:20260318T223752Z
LAST-MODIFIED:20260318T223752Z
UID:8044-1777708800-1777741200@www.velay-athletisme.fr
SUMMARY:1er tour championnats interclubs (Lyon-Parilly)
DESCRIPTION:
URL:http://www.velay-athletisme.fr/evenement/1er-tour-championnats-interclubs-lyon-parilly/
LOCATION:Parilly\, Vénissieux\, France
ATTACH;FMTTYPE=image/png:http://www.velay-athletisme.fr/wp-content/uploads/2024/09/CA-piste.png
END:VEVENT
BEGIN:VEVENT
DTSTART;TZID=Europe/Paris:20260503T080000
DTEND;TZID=Europe/Paris:20260503T170000
DTSTAMP:20260421T174157
CREATED:20251229T205043Z
LAST-MODIFIED:20251229T205044Z
UID:7928-1777795200-1777827600@www.velay-athletisme.fr
SUMMARY:15 km du Puy
DESCRIPTION:Renseignements : https://15kmdupuy.fr/ \nInscriptions : https://forms.registration4all.com/EventRegistration/Register_Sport_Event.aspx?EventID=220771
URL:http://www.velay-athletisme.fr/evenement/15-km-du-puy-2/
LOCATION:Le Puy\, Le Puy-en-Velay\, France
ATTACH;FMTTYPE=image/png:http://www.velay-athletisme.fr/wp-content/uploads/2024/09/Course-majeure.png
END:VEVENT
BEGIN:VEVENT
DTSTART;TZID=Europe/Paris:20260503T080000
DTEND;TZID=Europe/Paris:20260503T170000
DTSTAMP:20260421T174157
CREATED:20251229T211724Z
LAST-MODIFIED:20251229T211724Z
UID:7950-1777795200-1777827600@www.velay-athletisme.fr
SUMMARY:Championnat de France de marathon (Ambès)
DESCRIPTION:Renseignements : https://www.athle.fr/contenu/championnats-de-france-de-marathon-2026-ambes-n-a/7118 \nQualifiés clubs (hors qualif exceptionnelle) : https://www.athle.fr/bases/liste.aspx?frmpostback=true&frmbase=qualifies&frmmode=1&frmespace=0&frmsaison=32&frmcompetition=1015&frmepreuve=&frmetat=&frmcategorie=&frmsexe=&frmtri=&frmclub=043002&frmligue=&frmdepartement=
URL:http://www.velay-athletisme.fr/evenement/championnat-de-france-de-marathon-ambes/
LOCATION:Ambès\, Ambès\, France
ATTACH;FMTTYPE=image/png:http://www.velay-athletisme.fr/wp-content/uploads/2024/09/Championnat.png
END:VEVENT
BEGIN:VEVENT
DTSTART;TZID=Europe/Paris:20260503T080000
DTEND;TZID=Europe/Paris:20260503T170000
DTSTAMP:20260421T174157
CREATED:20251229T212104Z
LAST-MODIFIED:20251229T212104Z
UID:7956-1777795200-1777827600@www.velay-athletisme.fr
SUMMARY:Championnat de France de course de montagne (Gap)
DESCRIPTION:
URL:http://www.velay-athletisme.fr/evenement/championnat-de-france-de-course-de-montagne-gap/
LOCATION:Gap\, Gap\, France
ATTACH;FMTTYPE=image/png:http://www.velay-athletisme.fr/wp-content/uploads/2024/09/Championnat.png
END:VEVENT
BEGIN:VEVENT
DTSTART;TZID=Europe/Paris:20260509T080000
DTEND;TZID=Europe/Paris:20260510T170000
DTSTAMP:20260421T174157
CREATED:20260228T171450Z
LAST-MODIFIED:20260417T195541Z
UID:8021-1778313600-1778432400@www.velay-athletisme.fr
SUMMARY:Championnats AURA d'épreuves combinées minimes (Saint-Etienne)
DESCRIPTION:Horaires et programme : https://athletisme-aura.fr/calendrier/printemps/2026/horaire_AURA_EC_U16_St-Etienne_9_et_10_mai_2026_previsionnel_V2.pdf
URL:http://www.velay-athletisme.fr/evenement/championnats-aura-depreuves-combinees-minimes/
LOCATION:Saint-Etienne\, Saint-Etienne\, France
ATTACH;FMTTYPE=image/png:http://www.velay-athletisme.fr/wp-content/uploads/2024/09/BE-MI.png
END:VEVENT
BEGIN:VEVENT
DTSTART;TZID=Europe/Paris:20260510T080000
DTEND;TZID=Europe/Paris:20260510T170000
DTSTAMP:20260421T174157
CREATED:20251229T211954Z
LAST-MODIFIED:20251229T211954Z
UID:7953-1778400000-1778432400@www.velay-athletisme.fr
SUMMARY:Championnat de France de 10 km (Troyes)
DESCRIPTION:Renseignements : https://www.athle.fr/contenu/championnats-de-france-du-10-km-2026-troyes-g-e/7114 \nQualifiés club : https://www.athle.fr/bases/liste.aspx?frmpostback=true&frmbase=qualifies&frmmode=1&frmespace=0&frmsaison=32&frmcompetition=1011&frmepreuve=&frmetat=&frmcategorie=&frmsexe=&frmtri=&frmclub=043002&frmligue=&frmdepartement=
URL:http://www.velay-athletisme.fr/evenement/championnat-de-france-de-10-km-troyes/
LOCATION:Troyes\, Troyes\, France
ATTACH;FMTTYPE=image/png:http://www.velay-athletisme.fr/wp-content/uploads/2024/09/Championnat.png
END:VEVENT
BEGIN:VEVENT
DTSTART;TZID=Europe/Paris:20260523T080000
DTEND;TZID=Europe/Paris:20260523T170000
DTSTAMP:20260421T174157
CREATED:20260318T223846Z
LAST-MODIFIED:20260318T223846Z
UID:8046-1779523200-1779555600@www.velay-athletisme.fr
SUMMARY:Championnat de Haute-Loire sur piste (Brioude)
DESCRIPTION:
URL:http://www.velay-athletisme.fr/evenement/championnat-de-haute-loire-sur-piste-brioude/
LOCATION:Brioude\, Brioude\, France
ATTACH;FMTTYPE=image/png:http://www.velay-athletisme.fr/wp-content/uploads/2024/09/CA-piste.png
END:VEVENT
BEGIN:VEVENT
DTSTART;TZID=Europe/Paris:20260524T080000
DTEND;TZID=Europe/Paris:20260524T170000
DTSTAMP:20260421T174157
CREATED:20251229T205349Z
LAST-MODIFIED:20251229T205349Z
UID:7930-1779609600-1779642000@www.velay-athletisme.fr
SUMMARY:Techni Trail Tiranges
DESCRIPTION:Renseignements : https://www.trailtiranges.fr/
URL:http://www.velay-athletisme.fr/evenement/techni-trail-tiranges-2/
LOCATION:Tiranges\, Tiranges\, France
ATTACH;FMTTYPE=image/png:http://www.velay-athletisme.fr/wp-content/uploads/2024/09/Course-loc.png
END:VEVENT
BEGIN:VEVENT
DTSTART;TZID=Europe/Paris:20260531T080000
DTEND;TZID=Europe/Paris:20260531T170000
DTSTAMP:20260421T174157
CREATED:20260318T223951Z
LAST-MODIFIED:20260318T223951Z
UID:8048-1780214400-1780246800@www.velay-athletisme.fr
SUMMARY:Championnats AURA Equip'athlé (Lyon-Parilly)
DESCRIPTION:
URL:http://www.velay-athletisme.fr/evenement/championnats-aura-equipathle-lyon-parilly/
LOCATION:Parilly\, Vénissieux\, France
ATTACH;FMTTYPE=image/png:http://www.velay-athletisme.fr/wp-content/uploads/2024/09/BE-MI.png
END:VEVENT
END:VCALENDAR