BEGIN:VCALENDAR
VERSION:2.0
PRODID:-//Velay Athlétisme - ECPv6.15.20//NONSGML v1.0//EN
CALSCALE:GREGORIAN
METHOD:PUBLISH
X-ORIGINAL-URL:http://www.velay-athletisme.fr
X-WR-CALDESC:Évènements pour Velay Athlétisme
REFRESH-INTERVAL;VALUE=DURATION:PT1H
X-Robots-Tag:noindex
X-PUBLISHED-TTL:PT1H
BEGIN:VTIMEZONE
TZID:Europe/Paris
BEGIN:DAYLIGHT
TZOFFSETFROM:+0100
TZOFFSETTO:+0200
TZNAME:CEST
DTSTART:20250330T010000
END:DAYLIGHT
BEGIN:STANDARD
TZOFFSETFROM:+0200
TZOFFSETTO:+0100
TZNAME:CET
DTSTART:20251026T010000
END:STANDARD
BEGIN:DAYLIGHT
TZOFFSETFROM:+0100
TZOFFSETTO:+0200
TZNAME:CEST
DTSTART:20260329T010000
END:DAYLIGHT
BEGIN:STANDARD
TZOFFSETFROM:+0200
TZOFFSETTO:+0100
TZNAME:CET
DTSTART:20261025T010000
END:STANDARD
BEGIN:DAYLIGHT
TZOFFSETFROM:+0100
TZOFFSETTO:+0200
TZNAME:CEST
DTSTART:20270328T010000
END:DAYLIGHT
BEGIN:STANDARD
TZOFFSETFROM:+0200
TZOFFSETTO:+0100
TZNAME:CET
DTSTART:20271031T010000
END:STANDARD
END:VTIMEZONE
BEGIN:VEVENT
DTSTART;TZID=Europe/Paris:20260704T080000
DTEND;TZID=Europe/Paris:20260704T170000
DTSTAMP:20260421T214946
CREATED:20260318T225203Z
LAST-MODIFIED:20260318T225203Z
UID:8057-1783152000-1783184400@www.velay-athletisme.fr
SUMMARY:Championnats de France de triathlon MI (Dreux)
DESCRIPTION:
URL:http://www.velay-athletisme.fr/evenement/championnats-de-france-de-triathlon-mi-dreux/
LOCATION:Dreux\, Avenue Jean Hieaux\, Dreux\, France
ATTACH;FMTTYPE=image/png:http://www.velay-athletisme.fr/wp-content/uploads/2024/09/Championnat.png
END:VEVENT
BEGIN:VEVENT
DTSTART;TZID=Europe/Paris:20260705T080000
DTEND;TZID=Europe/Paris:20260705T170000
DTSTAMP:20260421T214946
CREATED:20251229T205758Z
LAST-MODIFIED:20251229T205758Z
UID:7934-1783238400-1783270800@www.velay-athletisme.fr
SUMMARY:Boucles de la Loire (Brives-Charensac)
DESCRIPTION:Renseignements : https://www.athle.fr/competitions/627846349843591849312834181849803840
URL:http://www.velay-athletisme.fr/evenement/boucles-de-la-loire-brives-charensac/
LOCATION:Brives\, Brives-Charensac\, France
ATTACH;FMTTYPE=image/png:http://www.velay-athletisme.fr/wp-content/uploads/2024/09/Course-majeure.png
END:VEVENT
BEGIN:VEVENT
DTSTART;TZID=Europe/Paris:20260719T080000
DTEND;TZID=Europe/Paris:20260719T170000
DTSTAMP:20260421T214946
CREATED:20251229T205939Z
LAST-MODIFIED:20251229T205940Z
UID:7936-1784448000-1784480400@www.velay-athletisme.fr
SUMMARY:Les Sources de la Borne (Félines)
DESCRIPTION:Renseignements et inscriptions : https://www.lessourcesdelaborne.com/
URL:http://www.velay-athletisme.fr/evenement/les-sources-de-la-borne-felines-2/
LOCATION:Félines\, Félines\, France
ATTACH;FMTTYPE=image/png:http://www.velay-athletisme.fr/wp-content/uploads/2024/09/Course-loc.png
END:VEVENT
END:VCALENDAR